BEGIN:VCALENDAR
VERSION:2.0
PRODID:-//Squarespace Inc/Squarespace 6//v6//EN
BEGIN:VEVENT
UID:54d03302e4b018314b85f305@squarespace.com
DTSTAMP:20170823T223040Z
DTSTART:20151121T130100Z
DTEND:20211122T125900Z
SUMMARY:Feast of Christ the King
END:VEVENT
END:VCALENDAR
