BEGIN:VCALENDAR
VERSION:2.0
PRODID:-//Squarespace Inc/Squarespace 6//v6//EN
BEGIN:VEVENT
UID:54d033c9e4b0a76a040fb3a1@squarespace.com
DTSTAMP:20170823T222627Z
DTSTART:20151207T130100Z
DTEND:20211208T125900Z
SUMMARY:Consecration of the Institute to the Immaculate Heart of Mary in 19
 42 
END:VEVENT
END:VCALENDAR
