BEGIN:VCALENDAR
VERSION:2.0
PRODID:-//Squarespace Inc/Squarespace 6//v6//EN
BEGIN:VEVENT
UID:54c717bae4b0f27c607d330b@squarespace.com
DTSTAMP:20170823T222519Z
DTSTART:20160101T130100Z
DTEND:20210102T115900Z
SUMMARY:Foundation Day of the Institute 
END:VEVENT
END:VCALENDAR
