BEGIN:VCALENDAR
VERSION:2.0
PRODID:-//Squarespace Inc/Squarespace 6//v6//EN
BEGIN:VEVENT
UID:54c71817e4b0666c7261d82e@squarespace.com
DTSTAMP:20170823T222450Z
DTSTART:20160108T130100Z
DTEND:20210109T125900Z
SUMMARY:Pope Pius IX approved the Institute and its Constitutions in 1863
END:VEVENT
END:VCALENDAR
